BEGIN:VCALENDAR
VERSION:2.0
PRODID:-//Crous Montpellier-Occitanie - ECPv6.15.20//NONSGML v1.0//EN
CALSCALE:GREGORIAN
METHOD:PUBLISH
X-ORIGINAL-URL:https://www.crous-montpellier.fr
X-WR-CALDESC:Évènements pour Crous Montpellier-Occitanie
REFRESH-INTERVAL;VALUE=DURATION:PT1H
X-Robots-Tag:noindex
X-PUBLISHED-TTL:PT1H
BEGIN:VTIMEZONE
TZID:Europe/Paris
BEGIN:DAYLIGHT
TZOFFSETFROM:+0100
TZOFFSETTO:+0200
TZNAME:CEST
DTSTART:20240331T010000
END:DAYLIGHT
BEGIN:STANDARD
TZOFFSETFROM:+0200
TZOFFSETTO:+0100
TZNAME:CET
DTSTART:20241027T010000
END:STANDARD
BEGIN:DAYLIGHT
TZOFFSETFROM:+0100
TZOFFSETTO:+0200
TZNAME:CEST
DTSTART:20250330T010000
END:DAYLIGHT
BEGIN:STANDARD
TZOFFSETFROM:+0200
TZOFFSETTO:+0100
TZNAME:CET
DTSTART:20251026T010000
END:STANDARD
BEGIN:DAYLIGHT
TZOFFSETFROM:+0100
TZOFFSETTO:+0200
TZNAME:CEST
DTSTART:20260329T010000
END:DAYLIGHT
BEGIN:STANDARD
TZOFFSETFROM:+0200
TZOFFSETTO:+0100
TZNAME:CET
DTSTART:20261025T010000
END:STANDARD
END:VTIMEZONE
BEGIN:VEVENT
DTSTART;TZID=Europe/Paris:20250305T200000
DTEND;TZID=Europe/Paris:20250305T213000
DTSTAMP:20260424T215425
CREATED:20250108T105544Z
LAST-MODIFIED:20250226T104923Z
UID:10026222-1741204800-1741210200@www.crous-montpellier.fr
SUMMARY:Théâtre au Trioletto : Quatre actrices et les autres\, Collectif EALF
DESCRIPTION:[vc_row][vc_column][vc_column_text] \nQuatre actrices et les autres\ndu Collectif EALF\nMis en scène par Pauline Auzuret \nPrix Régional et national 2024 du Tremplin théâtre organisé par le Crous \nQuatre actrices-chercheuses se questionnent autour de la figure de la femme suicidée. Elles s‘en tiennent à ce corpus: Sylvia Plath\, Dalida\, Sarah Kaneet Romy Schneider. Elsa\, Emma\, Florine et Clara se replongent alors dans l‘oeuvre de ces femmes – leurs textes\, leurs films\, leurs chansons – mais aussi dans leurs vies et leurs drames. Par l‘incarnation\, la schématisation\, le re-enactement et la projection d‘archives\, les actrices utilisent leurs outils pour entrer en confrontation\, en communion avec ces figures\, ces femmes\, ces fantômes. A la recherche d’un rôle ? D’un spectacle ? D’une lignée ? Elles ne savent pas vraiment\, ainsi\, elles oscillent dans le fantasme\, la mystification\, et l‘envie de ‘bien représenter‘. L‘envie de mourir devient vertigineuse et à mesure de la répétition\, les fantômes contaminent leurs hôtesses. \nInstagram du collectif  \n[vc_row][vc_column][vc_column_text] \n [/vc_column_text][vc_infobox] \nMERCREDI 5 & JEUDI 6 MARS \n20h00\n \nGRATUIT \nRÉSERVATION ICI \nATTENTION : Place garantie jusqu’à 15 minutes avant le début du spectacle (20h). Après cet horaire\, la réservation sera annulée. \nTRIOLETTO\n75 avenue Augustin Fliche – Montpellier\nTram 1 : Universités des sciences et des lettres \nLe Trioletto bénéficie du Plan Led Spectacle vivant Occitanie\, porté par Occitanie en scène et cofinancé par l’Union europénne dans le cadre du Fonds Européen de Développement Régional \n \n[/vc_infobox][/vc_column][/vc_row]
URL:https://www.crous-montpellier.fr/evenement/theatre-au-trioletto-quatre-actrices-et-les-autres-collectif-ealf/2025-03-05/
LOCATION:Trioletto\, 75 Av. Augustin Fliche\, Montpellier\, 34096\, France
CATEGORIES:Culture au Trioletto
ATTACH;FMTTYPE=image/png:https://www.crous-montpellier.fr/wp-content/uploads/sites/18/2025/02/CC-Banner-24-25-site-web-37.png
ORGANIZER;CN="Service culturel du Crous":MAILTO:service.culturel@crous-montpellier.fr
END:VEVENT
BEGIN:VEVENT
DTSTART;TZID=Europe/Paris:20250306T200000
DTEND;TZID=Europe/Paris:20250306T213000
DTSTAMP:20260424T215425
CREATED:20250108T105544Z
LAST-MODIFIED:20250226T104923Z
UID:10026225-1741291200-1741296600@www.crous-montpellier.fr
SUMMARY:Théâtre au Trioletto : Quatre actrices et les autres\, Collectif EALF
DESCRIPTION:[vc_row][vc_column][vc_column_text] \nQuatre actrices et les autres\ndu Collectif EALF\nMis en scène par Pauline Auzuret \nPrix Régional et national 2024 du Tremplin théâtre organisé par le Crous \nQuatre actrices-chercheuses se questionnent autour de la figure de la femme suicidée. Elles s‘en tiennent à ce corpus: Sylvia Plath\, Dalida\, Sarah Kaneet Romy Schneider. Elsa\, Emma\, Florine et Clara se replongent alors dans l‘oeuvre de ces femmes – leurs textes\, leurs films\, leurs chansons – mais aussi dans leurs vies et leurs drames. Par l‘incarnation\, la schématisation\, le re-enactement et la projection d‘archives\, les actrices utilisent leurs outils pour entrer en confrontation\, en communion avec ces figures\, ces femmes\, ces fantômes. A la recherche d’un rôle ? D’un spectacle ? D’une lignée ? Elles ne savent pas vraiment\, ainsi\, elles oscillent dans le fantasme\, la mystification\, et l‘envie de ‘bien représenter‘. L‘envie de mourir devient vertigineuse et à mesure de la répétition\, les fantômes contaminent leurs hôtesses. \nInstagram du collectif  \n[vc_row][vc_column][vc_column_text] \n [/vc_column_text][vc_infobox] \nMERCREDI 5 & JEUDI 6 MARS \n20h00\n \nGRATUIT \nRÉSERVATION ICI \nATTENTION : Place garantie jusqu’à 15 minutes avant le début du spectacle (20h). Après cet horaire\, la réservation sera annulée. \nTRIOLETTO\n75 avenue Augustin Fliche – Montpellier\nTram 1 : Universités des sciences et des lettres \nLe Trioletto bénéficie du Plan Led Spectacle vivant Occitanie\, porté par Occitanie en scène et cofinancé par l’Union europénne dans le cadre du Fonds Européen de Développement Régional \n \n[/vc_infobox][/vc_column][/vc_row]
URL:https://www.crous-montpellier.fr/evenement/theatre-au-trioletto-quatre-actrices-et-les-autres-collectif-ealf/2025-03-06/
LOCATION:Trioletto\, 75 Av. Augustin Fliche\, Montpellier\, 34096\, France
CATEGORIES:Culture au Trioletto
ATTACH;FMTTYPE=image/png:https://www.crous-montpellier.fr/wp-content/uploads/sites/18/2025/02/CC-Banner-24-25-site-web-37.png
ORGANIZER;CN="Service culturel du Crous":MAILTO:service.culturel@crous-montpellier.fr
END:VEVENT
BEGIN:VEVENT
DTSTART;TZID=Europe/Paris:20250320T200000
DTEND;TZID=Europe/Paris:20250320T230000
DTSTAMP:20260424T215425
CREATED:20250108T110102Z
LAST-MODIFIED:20250310T090125Z
UID:10026223-1742500800-1742511600@www.crous-montpellier.fr
SUMMARY:Pulsations\, le tremplin musical étudiant – finale régionale 🔥
DESCRIPTION:[vc_row][vc_column][vc_column_text] \nPulsations\nLe tremplin musical étudiant\n  \n🧨🔥 Le rendez-vous musical incontournable de la saison est de retour ! \nChaque année\, PULSATIONS met en avant des artistes émergents à découvrir en live sur la scène du Trioletto. Cinq finalistes\, un live captivant\, un jury de pros… Venez les soutenir et découvrir qui représentera Montpellier et sa région pour le Tremplin national ! \n EN COMPÉTITION :\nANNA MNX – Pop acoustique\, @anna_mnxBELLAMY222 – Rock alternatif\, @bellamy.222BUZZKILL – Post-punk / Cold wave\, @buzzkill.buzzkillECHO TRIPPER – Alternatif indie\, @echotripperLUCAS PARAMOUR – Pop\, @lucas.paramour \n⛓️‍💥LE JURY :\nELISA BEUZON – Directrice Radio Campus MontpellierJULIEN COROMPT – Chargée de mission musique\, Ville de Montpellier – Montpellier Méditerranée MétropoleMARION NOTTE – Manageuse/Chargée de production Victoire 2\, What the Fest/ Présidente du label Kicking recordsSYLVAIN BRIAT – Musicien et Directeur du Studio BriatFRANCK BERGER – Responsable du service culturel – Crous de Montpellier \n LES PRIX :\nFINALE TRIOLETTO : 1er prix – 300€ 2ème prix – 200€+ Sélection pour la finale à Bordeaux \n[vc_row][vc_column][vc_column_text] \n [/vc_column_text][vc_infobox] \nJEUDI 20 MARS \n20h00\n \nGRATUIT ET OUVERT A TOUS \nRÉSERVATION ICI \nATTENTION : Place garantie jusqu’à 15 minutes avant le début du concert (20h). Après cet horaire\, la réservation sera annulée. \nTRIOLETTO\n75 avenue Augustin Fliche – Montpellier\nTram 1 : Universités des sciences et des lettres \nLe Trioletto bénéficie du Plan Led Spectacle vivant Occitanie\, porté par Occitanie en scène et cofinancé par l’Union europénne dans le cadre du Fonds Européen de Développement Régional \n \n[/vc_infobox][/vc_column][/vc_row]
URL:https://www.crous-montpellier.fr/evenement/concert-au-trioletto-tremplin-musical-pulsations/
LOCATION:Trioletto\, 75 Av. Augustin Fliche\, Montpellier\, 34096\, France
CATEGORIES:Culture au Trioletto
ATTACH;FMTTYPE=image/png:https://www.crous-montpellier.fr/wp-content/uploads/sites/18/2025/03/CC-Banner-24-25-site-web-41.png
ORGANIZER;CN="Service culturel du Crous":MAILTO:service.culturel@crous-montpellier.fr
END:VEVENT
BEGIN:VEVENT
DTSTART;TZID=Europe/Paris:20250327T200000
DTEND;TZID=Europe/Paris:20250327T220000
DTSTAMP:20260424T215425
CREATED:20250310T092532Z
LAST-MODIFIED:20250310T093326Z
UID:10026349-1743105600-1743112800@www.crous-montpellier.fr
SUMMARY:Soirée stand-up au Trioletto !
DESCRIPTION:[vc_row][vc_column][vc_column_text] \n\nEt si le Trioletto devenait un comedy-club le temps d’une soirée ? Après des mois de travail acharné et de rires partagés\, les participants de l’atelier stand-up du Trioletto mené par Julie Rattez montent sur scène pour une soirée exceptionnelle ! Habitués de la scène aujourd’hui\, ils ont peaufiné leurs sketches et leurs punchlines pour vous offrir un spectacle haut en couleur ! \n\n\nAvec Emna Kallal en guest et Nathan Olivier au micro en MC !​\n\nMais\, qui sont-ils ? \n\n Emna de son nom Kallal de son prénom\, non pardon c’est l’inverse\, Emna de son prénom Kallal de son nom\, écrit / décrit des situations drôles. Enfin\, essaye de les rendre drôles en les partageant avec le public\, en espérant que des choses lui échappent dans ce partage. Elle n’a aucune idée de qui elle est : Un surfeur ? Une surfeuse ? Une 86 ? Un philosophe déchu ou une coiffeuse censurée… Dans tous ces bouts d’elle vous saurez vous y retrouver quelque part. Du moins elle l’espère !\n\n Nathan aborde des sujets qui lui tiennent à cœur avec beaucoup d’énergie mais en gardant un fond de douceur. Il nous transmet sa folie en alternant improvisation et stand up avec sincérité et simplicité. Avec sa jeunesse et son manque de cheveux\, il parle avec conviction\, le tout avec une once de déconnade.\n\nSur scène vous retrouvez aussi : BELLAVISTA Nino\, BOUMARD Maïwenn\, JENNEQUIN Dany\, NAMULINDWA Bennie\, GUZMAN CAMPOS Guillermo\, SANSEIGNE-CASANOVAS Camilo\, SANDOVAL Diana\, VIDAL Elisa et TOUMIA Moncef !\n[vc_row][vc_column][vc_column_text] \n [/vc_column_text][vc_infobox] \nJEUDI 27 MARS \n20h00\n \nGRATUIT ET OUVERT A TOUS \nRÉSERVATION ICI \nTRIOLETTO\n75 avenue Augustin Fliche – Montpellier\nTram 1 : Universités des sciences et des lettres \nLe Trioletto bénéficie du Plan Led Spectacle vivant Occitanie\, porté par Occitanie en scène et cofinancé par l’Union europénne dans le cadre du Fonds Européen de Développement Régional \n \n[/vc_infobox][/vc_column][/vc_row]
URL:https://www.crous-montpellier.fr/evenement/soiree-stand-up-au-trioletto/
LOCATION:Trioletto\, 75 Av. Augustin Fliche\, Montpellier\, 34096\, France
CATEGORIES:Culture au Trioletto
ATTACH;FMTTYPE=image/png:https://www.crous-montpellier.fr/wp-content/uploads/sites/18/2025/03/cc-ecran-dyn-stand-up.png
ORGANIZER;CN="Service culturel du Crous":MAILTO:service.culturel@crous-montpellier.fr
END:VEVENT
END:VCALENDAR